BEGIN:VCALENDAR
VERSION:2.0
PRODID:-//Sea Fox Boats - ECPv6.15.20//NONSGML v1.0//EN
CALSCALE:GREGORIAN
METHOD:PUBLISH
X-ORIGINAL-URL:https://www.seafoxboats.com
X-WR-CALDESC:Events for Sea Fox Boats
REFRESH-INTERVAL;VALUE=DURATION:PT1H
X-Robots-Tag:noindex
X-PUBLISHED-TTL:PT1H
BEGIN:VTIMEZONE
TZID:America/New_York
BEGIN:DAYLIGHT
TZOFFSETFROM:-0500
TZOFFSETTO:-0400
TZNAME:EDT
DTSTART:20230312T070000
END:DAYLIGHT
BEGIN:STANDARD
TZOFFSETFROM:-0400
TZOFFSETTO:-0500
TZNAME:EST
DTSTART:20231105T060000
END:STANDARD
BEGIN:DAYLIGHT
TZOFFSETFROM:-0500
TZOFFSETTO:-0400
TZNAME:EDT
DTSTART:20240310T070000
END:DAYLIGHT
BEGIN:STANDARD
TZOFFSETFROM:-0400
TZOFFSETTO:-0500
TZNAME:EST
DTSTART:20241103T060000
END:STANDARD
BEGIN:DAYLIGHT
TZOFFSETFROM:-0500
TZOFFSETTO:-0400
TZNAME:EDT
DTSTART:20250309T070000
END:DAYLIGHT
BEGIN:STANDARD
TZOFFSETFROM:-0400
TZOFFSETTO:-0500
TZNAME:EST
DTSTART:20251102T060000
END:STANDARD
END:VTIMEZONE
BEGIN:VEVENT
DTSTART;TZID=America/New_York:20240229T080000
DTEND;TZID=America/New_York:20240303T170000
DTSTAMP:20260420T135110
CREATED:20240118T204156Z
LAST-MODIFIED:20250317T151011Z
UID:7293-1709193600-1709485200@www.seafoxboats.com
SUMMARY:St. Charles Boat Show
DESCRIPTION:Location: St. Charles\, MO
URL:https://www.seafoxboats.com/event/st-charles-boat-show/
END:VEVENT
BEGIN:VEVENT
DTSTART;TZID=America/New_York:20240229T100000
DTEND;TZID=America/New_York:20240303T170000
DTSTAMP:20260420T135110
CREATED:20230901T092007Z
LAST-MODIFIED:20250317T151128Z
UID:6080-1709200800-1709485200@www.seafoxboats.com
SUMMARY:Bonita Springs Boat Show
DESCRIPTION:Dealer: Black Label Marine \nLocation: Bonita Springs\, FL \n  \nExhibiting: 231 Bay Fox\, 251 Bay Fox\, 228 Commander\, 248 Commander\, 268 Commander\, 288 Commander\, 368 Commander\, and 268 Traveler
URL:https://www.seafoxboats.com/event/bonita-springs/
END:VEVENT
BEGIN:VEVENT
DTSTART;TZID=America/New_York:20240315T080000
DTEND;TZID=America/New_York:20240317T170000
DTSTAMP:20260420T135110
CREATED:20231214T211909Z
LAST-MODIFIED:20250324T181855Z
UID:7103-1710489600-1710694800@www.seafoxboats.com
SUMMARY:Louisiana Outdoor Expo
DESCRIPTION:Location: Gonzales\, LA \n  \n  \nDealer: Boat Stuf \n  \n  \n  \nExhibiting: 228 Commander\, 248 Commander\, 268 Commander\, 288 Commander\, 231 Bay Fox\, and 251 Bay Fox.
URL:https://www.seafoxboats.com/event/louisiana-outdoor-expo/
END:VEVENT
BEGIN:VEVENT
DTSTART;TZID=America/New_York:20240315T080000
DTEND;TZID=America/New_York:20240317T170000
DTSTAMP:20260420T135110
CREATED:20240307T204525Z
LAST-MODIFIED:20250324T182048Z
UID:7627-1710489600-1710694800@www.seafoxboats.com
SUMMARY:Long Island Boat and Fishing Show
DESCRIPTION:Location: Long Island\, NY \n  \nDealer: Amity Harbor \n  \n  \nExhibiting: 248 Commander\, 268 Commander\, and 288 Commander.
URL:https://www.seafoxboats.com/event/long-island-boat-and-fishing-show/
END:VEVENT
BEGIN:VEVENT
DTSTART;VALUE=DATE:20240322
DTEND;VALUE=DATE:20240325
DTSTAMP:20260420T135110
CREATED:20230106T185839Z
LAST-MODIFIED:20250324T182322Z
UID:4449-1711065600-1711324799@www.seafoxboats.com
SUMMARY:Highway Marine Open House
DESCRIPTION:Location: Quakertown\, PA \nDealer: Highway Marine
URL:https://www.seafoxboats.com/event/highway-marine-open-house/
END:VEVENT
BEGIN:VEVENT
DTSTART;VALUE=DATE:20240322
DTEND;VALUE=DATE:20240325
DTSTAMP:20260420T135110
CREATED:20230106T190243Z
LAST-MODIFIED:20250414T150338Z
UID:4457-1711065600-1711324799@www.seafoxboats.com
SUMMARY:Moncton Boat & Sportsman Show
DESCRIPTION:Location: Moncton\, NB Canada \nDealer: Seamasters Marine Services \n  \nExhibiting: 268Traveler and 248 Side Console
URL:https://www.seafoxboats.com/event/moncton-boat-sportsman-show/
END:VEVENT
BEGIN:VEVENT
DTSTART;VALUE=DATE:20240322
DTEND;VALUE=DATE:20240325
DTSTAMP:20260420T135110
CREATED:20230106T190411Z
LAST-MODIFIED:20250414T150548Z
UID:4461-1711065600-1711324799@www.seafoxboats.com
SUMMARY:The Great Upstate Boat Show
DESCRIPTION:Location: Queensbury\, NY \n  \n  \nDealer: FR Smith & Sons Marina \n  \n  \n  \nExhibiting: 228 Traveler and 228 Commander
URL:https://www.seafoxboats.com/event/the-great-upstate-boat-show/
END:VEVENT
END:VCALENDAR