BEGIN:VCALENDAR
VERSION:2.0
PRODID:-//Sea Fox Boats - ECPv6.15.20//NONSGML v1.0//EN
CALSCALE:GREGORIAN
METHOD:PUBLISH
X-ORIGINAL-URL:https://www.seafoxboats.com
X-WR-CALDESC:Events for Sea Fox Boats
REFRESH-INTERVAL;VALUE=DURATION:PT1H
X-Robots-Tag:noindex
X-PUBLISHED-TTL:PT1H
BEGIN:VTIMEZONE
TZID:America/New_York
BEGIN:DAYLIGHT
TZOFFSETFROM:-0500
TZOFFSETTO:-0400
TZNAME:EDT
DTSTART:20220313T070000
END:DAYLIGHT
BEGIN:STANDARD
TZOFFSETFROM:-0400
TZOFFSETTO:-0500
TZNAME:EST
DTSTART:20221106T060000
END:STANDARD
BEGIN:DAYLIGHT
TZOFFSETFROM:-0500
TZOFFSETTO:-0400
TZNAME:EDT
DTSTART:20230312T070000
END:DAYLIGHT
BEGIN:STANDARD
TZOFFSETFROM:-0400
TZOFFSETTO:-0500
TZNAME:EST
DTSTART:20231105T060000
END:STANDARD
BEGIN:DAYLIGHT
TZOFFSETFROM:-0500
TZOFFSETTO:-0400
TZNAME:EDT
DTSTART:20240310T070000
END:DAYLIGHT
BEGIN:STANDARD
TZOFFSETFROM:-0400
TZOFFSETTO:-0500
TZNAME:EST
DTSTART:20241103T060000
END:STANDARD
END:VTIMEZONE
BEGIN:VEVENT
DTSTART;TZID=America/New_York:20231023T090000
DTEND;TZID=America/New_York:20231026T170000
DTSTAMP:20260420T210301
CREATED:20231020T142826Z
LAST-MODIFIED:20250217T153142Z
UID:6869-1698051600-1698339600@www.seafoxboats.com
SUMMARY:Sanctuary Cove International Boat Show
DESCRIPTION:Dealer: JSW Powersports\nLocation: Gold Coast\, Australia
URL:https://www.seafoxboats.com/event/sanctuary-cove-international-boat-show-2/
END:VEVENT
BEGIN:VEVENT
DTSTART;TZID=America/New_York:20231025T120000
DTEND;TZID=America/New_York:20231029T180000
DTSTAMP:20260420T210301
CREATED:20230901T091534Z
LAST-MODIFIED:20250217T153007Z
UID:6067-1698235200-1698602400@www.seafoxboats.com
SUMMARY:Ft. Lauderdale Boat Show
DESCRIPTION:Dealer: The Boat Kings \n  \n  \nLocation: Ft. Lauderdale\, FL
URL:https://www.seafoxboats.com/event/ft-lauderdale-boat-show/
END:VEVENT
END:VCALENDAR